BEGIN:VCALENDAR
VERSION:2.0
PRODID:-//Canoe Kayak Saskatchewan - ECPv6.15.17.1//NONSGML v1.0//EN
CALSCALE:GREGORIAN
METHOD:PUBLISH
X-WR-CALNAME:Canoe Kayak Saskatchewan
X-ORIGINAL-URL:https://canoekayaksask.ca
X-WR-CALDESC:Events for Canoe Kayak Saskatchewan
REFRESH-INTERVAL;VALUE=DURATION:PT1H
X-Robots-Tag:noindex
X-PUBLISHED-TTL:PT1H
BEGIN:VTIMEZONE
TZID:America/Regina
BEGIN:STANDARD
TZOFFSETFROM:-0600
TZOFFSETTO:-0600
TZNAME:CST
DTSTART:20230101T000000
END:STANDARD
END:VTIMEZONE
BEGIN:VEVENT
DTSTART;TZID=America/Regina:20240529T090000
DTEND;TZID=America/Regina:20240602T160000
DTSTAMP:20260422T120519
CREATED:20240515T113828Z
LAST-MODIFIED:20240515T113828Z
UID:1698-1716973200-1717344000@canoekayaksask.ca
SUMMARY:Paddle Canada - Intermediate Big Canoe Instructor
DESCRIPTION:Successful candidates receive the Intermediate Big Canoe Instructor certification.\nThe Intermediate Big Canoe Instructor is certified to: \n\nconduct Introduction to Big Canoe Paddling Skills and Intermediate Big Canoe Leader courses\napprentice on an Intermediate Big Canoe Instructor course (Advanced Leader Big Canoe Skills are required\n\nCost: $525/person plus PC fees \nPaddle Canada Membership Membership – Instructor: $99.99/person  \nInstructor Course Pre-requisites: \n\nAt least 18 years of age\nmust have “sterning” a big canoe experience\nBig Canoe Instructors must teach from a solo canoe so must hold strong solo paddling skills.\nOpen to the idea that this course deals with learning to control the canoe (making wide and tight turns\, pivots\, docking\, and running through a slalom course) with a group that just paddle forward and back\n\nPC Instructors (transfer): As this course hasn’t been offered in the province\, it doesn’t transfer like other programs. For specific inquiries\, please contact Priscilla Haskin padlonph@gmail.com \nRegistration Steps (new RAMP users): LINK
URL:https://canoekayaksask.ca/events/paddle-canada-intermediate-big-canoe-instructor/
LOCATION:Bell’s Beach\, Christopher Lake\, Bell's Beach\, Christopher Lake\, Saskatchewan\, Canada
CATEGORIES:Coaching/Instructor Courses
ORGANIZER;CN="Canoe Kayak Saskatchewan":MAILTO:cksaskpdd@gmail.com
END:VEVENT
BEGIN:VEVENT
DTSTART;TZID=America/Regina:20240518T090000
DTEND;TZID=America/Regina:20240518T170000
DTSTAMP:20260422T120519
CREATED:20230530T040528Z
LAST-MODIFIED:20240515T152305Z
UID:1113-1716022800-1716051600@canoekayaksask.ca
SUMMARY:CanoeKids Course
DESCRIPTION:Date: Saturday\, May 18\, 2024\nTime: 9am – 5pm \nLocation: Online – Zoom\nCourse Max: 12 Participants\nMinimum Age: 14 years old\nFacilitators: Dave Robertson\n\nRegistration Steps: https://docs.google.com/document/d/17UTyEHvS9BmQwlcm9I4ckCG3Zdn-zXISWA71RiRnwHg/edit?usp=sharing  \nNOTE: To register\, you will also need an NCCP so we can link your account. Please make sure you know your number or click here to register for one: https://thelocker.coach.ca/ \nCost:\n$50/participant   (CKS Club Members)\n$100/ participant (Non-CKS Club Members) \nCourse is eligible to be covered by the SaskSport Indigenous Coaches and Officials Program.\nWebsite: https://www.sasksport.ca/programs-education/indigenous-coaches-and-officials-program/\nProgram form: https://saskcoach.ca/indigenous-coaches-and-officials-program-participant-profile-form/ \nPlease visit their website or contact us for more information on this program and how to sign up.\n \nCourse Description:\nThe CanoeKids Program is a fun\, dynamic\, activity based program designed to introduce participants to basic paddling and safety skills\, in both canoes and kayaks. The program introduces skills through a progression of 3 levels and provides instruction at a recreational level at the beginning stages and progresses to include an introduction to racing by the end of the program. It can be easily adapted for participants of all ages. \nThe CanoeKids Coach Course is a NCCP recognized CanoeKayak Canada coach course. Those completing the course and course assignments will be certified as a NCCP CanoeKids Coach (NCCP Community Coach context). Those taking this course will receive information about teaching introductory canoe/kayak programs and will be certified to teach the Canoe Kids Program. \nWho Should Take the CanoeKids Coach Course?  \n\nThose who want to teach introductory canoeing and kayaking programs. \nThose who want to progress to being a competitive coach in the sport of sprint canoe/kayak;\nThose who want to coach athletes at multi-sport games including the Saskatchewan Games\, NAIG Games\, Canada Games and at provincial\, regional and national sprint racing competitions. \n\nNOTE: To be “certified” in CanoeKids\, you must take the NCCP Making Ethical Decisions course & Exam
URL:https://canoekayaksask.ca/events/canoekids-course/
LOCATION:Saskatchewan
CATEGORIES:Coaching/Instructor Courses
ORGANIZER;CN="Canoe Kayak Saskatchewan":MAILTO:cksaskpdd@gmail.com
END:VEVENT
BEGIN:VEVENT
DTSTART;TZID=America/Regina:20240511T090000
DTEND;TZID=America/Regina:20240512T170000
DTSTAMP:20260422T120519
CREATED:20240503T225415Z
LAST-MODIFIED:20240503T225717Z
UID:1578-1715418000-1715533200@canoekayaksask.ca
SUMMARY:Sprint ELCC Course (NCCP)
DESCRIPTION:Date: Saturday\, May 11 & Sunday\, May 12 \nTime: 9:00am – 5:00pm (Both days) \nFacilitator: Dave R \nLocation: Online – Zoom Link will be shared a few days before the clinic. \nCourse Max: 12 Participants \nRegistration: Through RAMP\nhttps://docs.google.com/document/d/1saxSkFimbJvQvztug3ZrUVSsfQEeU9kJkcQx5Xx0KKw/edit?usp=drive_link \nCost:  $175 \nThis course fee is eligible for coverage through the SaskSport Indigenous Coaches and Officials Program. Please visit their website or contact us for more information on this program and how to sign up. Website: https://www.sasksport.ca/programs-education/indigenous-coaches-and-officials-program/\nProgram form: https://saskcoach.ca/indigenous-coaches-and-officials-program-participant-profile-form/ \nWho Should Take the ELCC Sprint Course? \n\nMinimum Age: 15 years old  \nCoaches with previous coaching experience\nCoaches interested in working with athletes to help them reach their competitive goals.\nCoaches wanting to coach at the Sask Summer Games\, Tony Cote Summer Games\, and NAIG.\n\n\nENTRY-LEVEL COMPETITIVE COACH (ELCC)\nThe Entry-Level Competitive Coach is the first step to coaching in the competitive stream. Coaches will need to take: \n\nMulti-Sport Modules\nCore Training\n\nSprint Small Boats – ELCC Core Training\nThe core training Entry-Level Coaching Course includes the practical and theoretical components of coaching sprint K1 and C1. Learn how to effectively plan practices according to various energy systems. Gain a greater appreciation of technique and understand how to analyze the kayak and canoe stroke. Coaches will also discuss best practices for running safe and well organized practices. Format: 12-16 hour workshop. \nOVERVIEW OF COMPETITION INTRODUCTION PATHWAY\nThis stream is for coaches interested in working with athletes to help them reach their competitive goals. Coaches entering this stream typically have previous coaching experience or have been an athlete in the sport. Starting at the regional or provincial level\, coaches tend to work with athletes over the long-term to improve performance. A coach in this stream could eventually become a National Team Coach working with world-class athletes who travel the globe representing Canada. \nENTRY-LEVEL COMPETITION COACH (ELCC) – SPRINT Core Courses \n\nSprint small boats\nWar Canoe\nDragon Boat\n\nMULTISPORT WORKSHOPS\nThese are introductory workshops for becoming a competitive coach in canoe kayak. ELCC candidates must take the following NCCP multisport workshops before the ELCC core workshop in order to be “Trained” as an ELCC Coach. \n\nMaking Ethical Decisions\nPlan a Practice\nBasic Nutrition\nTeaching and Learning\n\nMore information regarding the workshops can be found at saskcoach.ca \nCERTIFICATION\nAfter completing all required assignments and modules\, coaches may request an “Evaluation” to become “Certified”. The cost is $75 and this can be requested through RAMP.
URL:https://canoekayaksask.ca/events/sprint-elcc-course-nccp/
LOCATION:Saskatchewan
CATEGORIES:Coaching/Instructor Courses
ORGANIZER;CN="Canoe Kayak Saskatchewan":MAILTO:cksaskpdd@gmail.com
END:VEVENT
END:VCALENDAR