BEGIN:VCALENDAR
VERSION:2.0
PRODID:-//Canoe Kayak Saskatchewan - ECPv6.15.17.1//NONSGML v1.0//EN
CALSCALE:GREGORIAN
METHOD:PUBLISH
X-ORIGINAL-URL:https://canoekayaksask.ca
X-WR-CALDESC:Events for Canoe Kayak Saskatchewan
REFRESH-INTERVAL;VALUE=DURATION:PT1H
X-Robots-Tag:noindex
X-PUBLISHED-TTL:PT1H
BEGIN:VTIMEZONE
TZID:America/Regina
BEGIN:STANDARD
TZOFFSETFROM:-0600
TZOFFSETTO:-0600
TZNAME:CST
DTSTART:20250101T000000
END:STANDARD
END:VTIMEZONE
BEGIN:VEVENT
DTSTART;TZID=America/Regina:20260525T180000
DTEND;TZID=America/Regina:20260528T220000
DTSTAMP:20260422T114721
CREATED:20260421T150007Z
LAST-MODIFIED:20260421T150007Z
UID:2547-1779732000-1780005600@canoekayaksask.ca
SUMMARY:ELCC Sprint
DESCRIPTION:When: Monday May 25 – Thursday\, May 28th – 6:00pm – 10:00pm (Each day) \nWhere: Online – Zoom \nCost: $175 \nCourse Description: \nThis course includes the practical and theoretical components of coaching sprint K1 and C1. Learn how to effectively plan practices according to various energy systems. Gain a greater appreciation of technique and understand how to analyze the kayak and canoe stroke. Coaches will also discuss best practices for running safe and well organized practices. \nWho Should Take the ELCC Sprint Course? \n\nMinimum Age: 15 years old  \nCoaches with previous coaching experience\nCoaches interested in working with athletes to help them reach their competitive goals.\nCoaches wanting to coach at the Sask Summer Games\, Tony Cote Summer Games\, and NAIG.\n\nOnly 12 spots available! \nCourse is eligible to be covered by the SaskSport Indigenous Coaches and Officials Program. https://www.sasksport.ca/programs-education/indigenous-coaches-and-officials-program/ Please visit their website or contact us for more information on this program and how to sign up. \nSign up through RAMP. \nhttps://drive.google.com/file/d/1ylMnZiP5mzNBbW1IUCvxJyZXp0OezuDF/view?usp=sharing
URL:https://canoekayaksask.ca/events/elcc-sprint/
CATEGORIES:Coaching/Instructor Courses
END:VEVENT
BEGIN:VEVENT
DTSTART;TZID=America/Regina:20260527T190000
DTEND;TZID=America/Regina:20260527T220000
DTSTAMP:20260422T114721
CREATED:20260324T173053Z
LAST-MODIFIED:20260421T144225Z
UID:2517-1779908400-1779919200@canoekayaksask.ca
SUMMARY:Sprint Officials Course Level 1/2
DESCRIPTION:When: Wednesday May 27th – 7-10pm\nCost: Free\nLocation: Hosted via Zoom \nThe CanoeKayak Canada Officials program is a structured progressive program involving three levels of Officials. The fourth and final accreditation is obtained through the International Canoe Federation. The program stresses integration of theory\, practical and competency based assessment at all levels.\n● Level 1 – Club Competitions\n● Level 2 – Divisional competitions/Provincial competitions\n● Level 3 – Inter-Divisional Competitions/ National Championships/ Canada SummerGames/Special O \nCanoeKayak Canada Officials are trained to ensure two fundamental requirements of any sprint regatta at all levels of competition: Safety and Fairness. \nMinimum requirements to become and Official\nA. Minimum 16 years of age;\nB. Membership to Canoe Kayak Canada; (through CKS)\nC. Willing to complete the appropriate training;\nD. Commitment to volunteer for a minimum of 2 days per year. \nRegister through RAMP: https://drive.google.com/file/d/1ylMnZiP5mzNBbW1IUCvxJyZXp0OezuDF/view?usp=sharing
URL:https://canoekayaksask.ca/events/sprint-officials-course-level-1-2/
CATEGORIES:Coaching/Instructor Courses,Officials
END:VEVENT
END:VCALENDAR